BEGIN:VCALENDAR
VERSION:2.0
PRODID:-//Geopark - ECPv6.15.20//NONSGML v1.0//EN
CALSCALE:GREGORIAN
METHOD:PUBLISH
X-WR-CALNAME:Geopark
X-ORIGINAL-URL:https://peelhorstenmaasvallei.nl
X-WR-CALDESC:Evenementen voor Geopark
REFRESH-INTERVAL;VALUE=DURATION:PT1H
X-Robots-Tag:noindex
X-PUBLISHED-TTL:PT1H
BEGIN:VTIMEZONE
TZID:Europe/Amsterdam
BEGIN:DAYLIGHT
TZOFFSETFROM:+0100
TZOFFSETTO:+0200
TZNAME:CEST
DTSTART:20200329T010000
END:DAYLIGHT
BEGIN:STANDARD
TZOFFSETFROM:+0200
TZOFFSETTO:+0100
TZNAME:CET
DTSTART:20201025T010000
END:STANDARD
BEGIN:DAYLIGHT
TZOFFSETFROM:+0100
TZOFFSETTO:+0200
TZNAME:CEST
DTSTART:20210328T010000
END:DAYLIGHT
BEGIN:STANDARD
TZOFFSETFROM:+0200
TZOFFSETTO:+0100
TZNAME:CET
DTSTART:20211031T010000
END:STANDARD
BEGIN:DAYLIGHT
TZOFFSETFROM:+0100
TZOFFSETTO:+0200
TZNAME:CEST
DTSTART:20220327T010000
END:DAYLIGHT
BEGIN:STANDARD
TZOFFSETFROM:+0200
TZOFFSETTO:+0100
TZNAME:CET
DTSTART:20221030T010000
END:STANDARD
END:VTIMEZONE
BEGIN:VEVENT
DTSTART;TZID=Europe/Amsterdam:20211003T100000
DTEND;TZID=Europe/Amsterdam:20211003T120000
DTSTAMP:20260424T021936
CREATED:20210702T095156Z
LAST-MODIFIED:20210922T113419Z
UID:1968-1633255200-1633262400@peelhorstenmaasvallei.nl
SUMMARY:Fiets excursie naar verborgen Raamvallei en Tongelaar
DESCRIPTION:Fiets excursie naar verborgen Raamvallei en Tongelaar door HKK en IVN samen.\nMax 40 deelnemers.\nKosten: 2\,50\nAanmelden: info@devalkhoevemill.nl\nBenodigdheden: fiets
URL:https://peelhorstenmaasvallei.nl/ontmoeting/wandeling-naar-verborgen-raamvallei-en-tongelaar/
LOCATION:De Valkhoeve\, Valkweg 11\, Mill\, Valkweg 11\, 5451PX
CATEGORIES:Activiteit
ATTACH;FMTTYPE=image/jpeg:https://peelhorstenmaasvallei.nl/wp-content/uploads/2021/07/2021-08-20-KO-foto-kasteel-Tongelaar.jpg
ORGANIZER;CN="De Valkhoeve":MAILTO:info@devalkhoevemill.nl
END:VEVENT
BEGIN:VEVENT
DTSTART;TZID=Europe/Amsterdam:20211004T200000
DTEND;TZID=Europe/Amsterdam:20211004T220000
DTSTAMP:20260424T021936
CREATED:20210702T093849Z
LAST-MODIFIED:20210924T090741Z
UID:1954-1633377600-1633384800@peelhorstenmaasvallei.nl
SUMMARY:Lezing geologie van de Peelrandbreuk
DESCRIPTION:Lezing geologie van de Peelrandbreuk door Frans van Heeswijk. \nOpening door wethouder Franko van Lankvelt gemeente Uden. \nThema:“Je ziet het pas als je het begrijpt” \nTijdens deze lezing wordt helder uitgelegd hoe de aarde en plaattektoniek werken en hoe daardoor de Peelrandbreuk is ontstaan. Het verklaart de overgang van Horst naar Slenk en de unieke combinatie van landschappen in ons gebied. Hier treffen we de Peelrandbreuk aan bij het Anna bos met het unieke wijstverschijnsel\, stuifduinen op bijvoorbeeld Bedaf en bolle akkers uit de Middeleeuwen. Met de beeldende uitleg van Frans van Heeswijk  begrijp je nog beter hoe bijzonder dit gebied is en zie je het zelf ook beter in het landschap. \nEen aanrader! \nNatuurcentrum de Maashorst.\nErenakkerstraat 5 \, 5388 SZ Nistelrode\nBezoek achteraf de tentoonstelling Bewogen landschap in beweging bij Natuurcentrum de Maashorst\nAanmelden: via info@peelhorstenmaasvallei.nl\nMax 20 deelnemers.
URL:https://peelhorstenmaasvallei.nl/ontmoeting/lezing-geologie-van-de-peelrandbreuk/
LOCATION:Natuurcentrum de Maashorst\, Erenakkerstraat 5\, Nistelrode\, Erenakkerstraat 5\, 5388SZ
CATEGORIES:Lezing
ATTACH;FMTTYPE=image/jpeg:https://peelhorstenmaasvallei.nl/wp-content/uploads/2021/07/2021-08-21-KO-foto-natuurcentrum-de-maashorst-300x225-1.jpg
ORGANIZER;CN="Frans van Heeswijk":MAILTO:info@peelhorstenmaasvallei.nl
END:VEVENT
BEGIN:VEVENT
DTSTART;TZID=Europe/Amsterdam:20211009T110000
DTEND;TZID=Europe/Amsterdam:20211009T173000
DTSTAMP:20260424T021936
CREATED:20210929T105004Z
LAST-MODIFIED:20210929T105004Z
UID:2261-1633777200-1633800600@peelhorstenmaasvallei.nl
SUMMARY:Peelrandbreuk dagarrangement met fietstocht
DESCRIPTION:Dagarrangement met fietstocht georganiseerd door Bijzonder Brabants.
URL:https://peelhorstenmaasvallei.nl/ontmoeting/peelrandbreuk-dagarrangement-met-fietstocht/
LOCATION:Bijzonder Brabants\, Deurne\, Breemortelweg 25\, 5753RH
CATEGORIES:Partner
ATTACH;FMTTYPE=image/jpeg:https://peelhorstenmaasvallei.nl/wp-content/uploads/2021/09/2021-09-29-Bijzonder-Brabants-dagarrangement-219-w-1118-TKP-turfstekers.jpg
END:VEVENT
BEGIN:VEVENT
DTSTART;TZID=Europe/Amsterdam:20211011T200000
DTEND;TZID=Europe/Amsterdam:20211011T220000
DTSTAMP:20260424T021936
CREATED:20210702T094339Z
LAST-MODIFIED:20210901T121418Z
UID:1959-1633982400-1633989600@peelhorstenmaasvallei.nl
SUMMARY:Lezing de geologie van de Peelrandbreuk met aandacht voor het Meinweggebied
DESCRIPTION:Lezing de  geologie van de Peelrandbreuk met aandacht voor het Meinweggebied in Limburg door Ad Havermans\nOp deze avond wordt behalve de algemene info over het ontstaan van de Peelrandbreuk ingezoomd op het Meinweg gebied in Limburg.\nOok wordt de Peelrandbreukzone in West Europees perspectief besproken.\nTenslotte komen tips om verschijnselen m.b.t. de breuk te bekijken\, aan de orde. \nOstaderstraat 23\, 5721 WC Asten\nBekijken tentoonstelling Klok en Peel\nToegang gratis. Koffie met iets lekkers tegen betaling\nAanmelden: info@museumklokenpeel.nl\nMax 25 deelnemers
URL:https://peelhorstenmaasvallei.nl/ontmoeting/lezing-geologie-van-de-peelrandbreuk-2/
LOCATION:Museum Klok en Peel\, Ostaderstraat 23\, Asten\, Ostaderstraat 23\, 5721 WC\, Nederland
CATEGORIES:Lezing
ATTACH;FMTTYPE=image/jpeg:https://peelhorstenmaasvallei.nl/wp-content/uploads/2021/07/2021-07-19-Ad-Havermans-Peelrandbreuk-Bakel-nov-2014-8.jpg
ORGANIZER;CN="Museum Klok en Peel":MAILTO:info@museumklokenpeel.nl
END:VEVENT
BEGIN:VEVENT
DTSTART;TZID=Europe/Amsterdam:20211019T200000
DTEND;TZID=Europe/Amsterdam:20211019T220000
DTSTAMP:20260424T021936
CREATED:20210702T094659Z
LAST-MODIFIED:20211013T140143Z
UID:1962-1634673600-1634680800@peelhorstenmaasvallei.nl
SUMMARY:Lezing iconen van de wijst
DESCRIPTION:Lezing Iconen van de wijst door Nico Ettema. \nGeopark Peelhorst en Maasvallei i.o. beoogt het herstel van wijstgronden te bevorderen in Brabant en Limburg. Wijstgronden ontstaan\, doordat breuken in de bodem slecht doorlatend zijn. Het gevolg is dat de grond boven de breuk nat wordt en de lager gelegen grond onder de breuk droog. Om breuken meer herkenbaar te maken is ecoloog Nico Ettema gevraagd om een boekje te maken over wijst iconen. Dit kunnen verschijnselen in het landschap zijn zoals bruin water en een terreintrede\, maar ook planten en dieren\, die karakteristiek zijn voor wijstgebieden. In het eerste deel van de lezing worden deze wijst iconen getoond. Na de pauze worden beelden getoond van de bezochte wijstgebieden in Brabant en Limburg. Samen met Theo van de Mortel (geograaf) en Anton Sijbers (bioloog) zijn de gebieden onderzocht\, die door Witteveen en Bos in hun rapport zijn aangemerkt als wijstgebieden. \nAdresgegevens:\nPerekker Boekel\nMezenlaan 22 Boekel \nToegang gratis\, koffie met iets lekkers tegen betaling\nAanmelden: stichtingdneik@gmail.com\nMax 30 deelnemers.
URL:https://peelhorstenmaasvallei.nl/ontmoeting/lezing-iconen-van-de-wijst/
LOCATION:Perekker\, Mezenlaan 22\, Boekel\, Mezenlaan 22
CATEGORIES:Lezing
ATTACH;FMTTYPE=image/jpeg:https://peelhorstenmaasvallei.nl/wp-content/uploads/2021/07/2021-08-20-KO-foto-perekker-Boekel.jpeg
ORGANIZER;CN="Stichting d'n Eijk":MAILTO:stichtingdneik@gmail.com
END:VEVENT
BEGIN:VEVENT
DTSTART;TZID=Europe/Amsterdam:20211024T110000
DTEND;TZID=Europe/Amsterdam:20211024T153000
DTSTAMP:20260424T021936
CREATED:20210929T105317Z
LAST-MODIFIED:20210929T105317Z
UID:2265-1635073200-1635089400@peelhorstenmaasvallei.nl
SUMMARY:Peelrandbreuk ontdekken bij de Ossenbeemd en Bijzonder Brabants met lunch
DESCRIPTION:Op een dag de geheimen van de Peelrandbreuk ontdekken. Kijk voor meer informatie op Bijzonder Brabants
URL:https://peelhorstenmaasvallei.nl/ontmoeting/peelrandbreuk-ontdekken-bij-de-ossenbeemd-en-bijzonder-brabants-met-lunch/
LOCATION:Bijzonder Brabants\, Deurne\, Breemortelweg 25\, 5753RH
CATEGORIES:Partner
ATTACH;FMTTYPE=image/jpeg:https://peelhorstenmaasvallei.nl/wp-content/uploads/2021/06/2021-06-28-Geopark-de-onvergetelijke-groentetuin-ontdekken.jpg
END:VEVENT
BEGIN:VEVENT
DTSTART;TZID=Europe/Amsterdam:20211025T200000
DTEND;TZID=Europe/Amsterdam:20211025T220000
DTSTAMP:20260424T021936
CREATED:20210702T094938Z
LAST-MODIFIED:20210917T121925Z
UID:1965-1635192000-1635199200@peelhorstenmaasvallei.nl
SUMMARY:Lezing water van de Peelrandbreuk: let op tot nader order uitgesteld
DESCRIPTION:Let op! Uitgesteld.\nLezing water van de Peelrandbreuk over pottenbakkers en kannen buizen; leem en steen door Louis Litjens. \nBekijken tentoonstelling Kei goed!\nToegang gratis. Koffie met iets lekkers tegen betaling.\nAanmelden: beheer@ossenbeemd.nl\nMax 20 deelnemers.
URL:https://peelhorstenmaasvallei.nl/ontmoeting/lezing-water-van-de-peelrandbreuk/
LOCATION:Ossenbeemd\, Haageind 31\, Deurne\, Haageind 31\, 5751 BB
CATEGORIES:Lezing
ATTACH;FMTTYPE=image/jpeg:https://peelhorstenmaasvallei.nl/wp-content/uploads/2021/07/2021-08-20-KO-foto-ossenbeemd-Deurne.jpg
ORGANIZER;CN="Ossenbeemd":MAILTO:info@ossenbeemd.nl
END:VEVENT
BEGIN:VEVENT
DTSTART;TZID=Europe/Amsterdam:20211031T100000
DTEND;TZID=Europe/Amsterdam:20211031T130000
DTSTAMP:20260424T021936
CREATED:20210702T095550Z
LAST-MODIFIED:20211020T084800Z
UID:1971-1635674400-1635685200@peelhorstenmaasvallei.nl
SUMMARY:Fietsexcursie: Ontstaan van het hoogveenmoeras de Verheven Peel
DESCRIPTION:Fietsexcursie: Ontstaan van het hoogveenmoeras de Verheven Peel door Piet Blankers. \nTijdens de fietstocht wordt ingegaan op het ontstaan van het hoogveenmoeras de Verheven Peel op de Peelhorst. Het is namenlijk een vrij unieke combinatie van geologische factoren: de aanwezigheid van de ondoorlatende Peelrandbreuk\, twee waterscheidingen die loodrecht op elkaar staan en de formatie van Breda op geringe diepte. Daarnaast zal ook (kort) aandacht besteed worden aan de vervening geschiedenis van de Verheven Peel en het beheer van de bloemrijke graslanden door stichting VEEN. \nProgramma: \n9.30 uur:  de ontvangst met koffie voorzien. \n10:00 uur: Openingswoord door Wethouder Paul Sanders. \n10:15 uur: Introductie fietstocht (PowerPoint Presentatie) door Piet Blankers. \n10:45 uur: Vertrek fietstocht. \n12:30 uur: Pauze voor een korte lunch (zelf meebrengen). \n13:00 uur: Einde \nVerzamelpunt: \nPeel -en dorpsmuseum Truijenhof Meijel. \nTomveld 2\, 5768 CP Meijel. \nAanmelden: info@peelhorstenmaasvallei.nl. \nMax 20 deelnemers.
URL:https://peelhorstenmaasvallei.nl/ontmoeting/fietsexcursie-de-verheven-peel/
LOCATION:Peel-en dorpsmuseum Truijenhof\, Tomveld 2\, Meijel\, Tomveld 2\, 5768CP
CATEGORIES:Activiteit
ATTACH;FMTTYPE=image/jpeg:https://peelhorstenmaasvallei.nl/wp-content/uploads/2021/07/2021-10-01-Geopark-KO-foto-Piet-Blankers-verheven-Peel.MG_3710.jpg
ORGANIZER;CN="Piet Blankers":MAILTO:info@peelhorstenmaasvallei.nl
END:VEVENT
END:VCALENDAR