BEGIN:VCALENDAR
VERSION:2.0
PRODID:-//Geopark - ECPv6.15.18//NONSGML v1.0//EN
CALSCALE:GREGORIAN
METHOD:PUBLISH
X-WR-CALNAME:Geopark
X-ORIGINAL-URL:https://peelhorstenmaasvallei.nl
X-WR-CALDESC:Evenementen voor Geopark
REFRESH-INTERVAL;VALUE=DURATION:PT1H
X-Robots-Tag:noindex
X-PUBLISHED-TTL:PT1H
BEGIN:VTIMEZONE
TZID:Europe/Amsterdam
BEGIN:DAYLIGHT
TZOFFSETFROM:+0100
TZOFFSETTO:+0200
TZNAME:CEST
DTSTART:20230326T010000
END:DAYLIGHT
BEGIN:STANDARD
TZOFFSETFROM:+0200
TZOFFSETTO:+0100
TZNAME:CET
DTSTART:20231029T010000
END:STANDARD
BEGIN:DAYLIGHT
TZOFFSETFROM:+0100
TZOFFSETTO:+0200
TZNAME:CEST
DTSTART:20240331T010000
END:DAYLIGHT
BEGIN:STANDARD
TZOFFSETFROM:+0200
TZOFFSETTO:+0100
TZNAME:CET
DTSTART:20241027T010000
END:STANDARD
BEGIN:DAYLIGHT
TZOFFSETFROM:+0100
TZOFFSETTO:+0200
TZNAME:CEST
DTSTART:20250330T010000
END:DAYLIGHT
BEGIN:STANDARD
TZOFFSETFROM:+0200
TZOFFSETTO:+0100
TZNAME:CET
DTSTART:20251026T010000
END:STANDARD
END:VTIMEZONE
BEGIN:VEVENT
DTSTART;TZID=Europe/Amsterdam:20240920T130000
DTEND;TZID=Europe/Amsterdam:20240920T170000
DTSTAMP:20260422T030550
CREATED:20240819T092554Z
LAST-MODIFIED:20240819T092554Z
UID:3906-1726837200-1726851600@peelhorstenmaasvallei.nl
SUMMARY:UITNODIGING Op weg naar EigenWIJS(T) ***Vrijdag 20-09-2024
DESCRIPTION:Graag nodigen we je uit voor het tweede netwerkevent van Geopark Peelhorst en Maasvallei “Op weg naar EigenWIJS(T)” op vrijdag 20 september van 13:00 tot 17:00 uur. Het vervolg op de GEOparkmiddag die in 2023 plaatsvond in Merselo. We zijn dit keer welkom bij de Bedafse Pier\, gelegen aan de rand van het prachtige natuurgebied de Maashorst. \n“Op weg naar EIGENWIJS(T)” staat in het teken van EigenWIJS(T) 2025\, een evenement voor inwoners en bezoekers dat in mei 2025 tijdens de officiële UNESCO Geoparkweken gaat plaatsvinden. Het doel is om bezoekers kennis te laten maken met de bijzondere natuurverschijnselen in- het Geopark Peelhorst en Maasvallei en natuurgebied De Maashorst in het bijzonder. Tijdens het netwerkevent van 20 september gaan we samen een interessant programma opzetten waarin activiteiten\, kennis opdoen en ontdekken samen komen. \nLees hier meer over het concept EigenWIJS(T).. Breuken ontdekken op drie Oerplekken \nTijdens de Geoparkweken 2025 worden bezoekers uitgenodigd om een reis te maken langs de drie verschillende fysieke bezoekerspunten op behapbare afstand voor de fietser. Dit doen ze op basis van een belevingskaart van het Geopark en bijbehorend programmaboekje. \nOp de verschillende locaties vindt men in een creatieve setting verschillende activiteiten en standjes. Met zoveel mogelijk een interactieve invulling. Op locatie zijn ook drankjes en versnaperingen verkrijgbaar\, bijvoorbeeld ijzerrijke hapjes\, Peelpizza\, Peelbier. Bij elke locatie zijn folders van fiets- en wandelroutes in dat gebied beschikbaar en eventueel film- of ander beeldmateriaal. Ook worden excursies aangeboden. \nHet is belangrijk een juiste balans tussen beleving en behoud van rust voor de natuur te bewaken\, om in de natuurgebieden zelf niet te veel drukte te genereren. \nGebruik bestaande (fiets)routes. De meest intensieve beleving vindt plaats op de locaties die daar geschikt voor zijn. \nProgramma: \nVolgt. \nAanmeldformulier: \nMeld je nu aan via dit aanmeldformulier
URL:https://peelhorstenmaasvallei.nl/ontmoeting/uitnodiging-op-weg-naar-eigenwijst-vrijdag-20-09-2024/
LOCATION:De Bedafse Pier\, Natuurgebied “De Maashorst”\, Schansweg 3\, Uden\, Noord-Brabant\, Nederland
CATEGORIES:Activiteit
ATTACH;FMTTYPE=image/png:https://peelhorstenmaasvallei.nl/wp-content/uploads/2024/08/foto-tbv-video.png
ORGANIZER;CN="Geopark Peelhorst en Maasvallei":MAILTO:info@peelhorstenmaasvallei.nl
END:VEVENT
END:VCALENDAR