BEGIN:VCALENDAR
VERSION:2.0
PRODID:-//Geopark - ECPv6.15.18//NONSGML v1.0//EN
CALSCALE:GREGORIAN
METHOD:PUBLISH
X-WR-CALNAME:Geopark
X-ORIGINAL-URL:https://peelhorstenmaasvallei.nl
X-WR-CALDESC:Evenementen voor Geopark
REFRESH-INTERVAL;VALUE=DURATION:PT1H
X-Robots-Tag:noindex
X-PUBLISHED-TTL:PT1H
BEGIN:VTIMEZONE
TZID:Europe/Amsterdam
BEGIN:DAYLIGHT
TZOFFSETFROM:+0100
TZOFFSETTO:+0200
TZNAME:CEST
DTSTART:20230326T010000
END:DAYLIGHT
BEGIN:STANDARD
TZOFFSETFROM:+0200
TZOFFSETTO:+0100
TZNAME:CET
DTSTART:20231029T010000
END:STANDARD
BEGIN:DAYLIGHT
TZOFFSETFROM:+0100
TZOFFSETTO:+0200
TZNAME:CEST
DTSTART:20240331T010000
END:DAYLIGHT
BEGIN:STANDARD
TZOFFSETFROM:+0200
TZOFFSETTO:+0100
TZNAME:CET
DTSTART:20241027T010000
END:STANDARD
BEGIN:DAYLIGHT
TZOFFSETFROM:+0100
TZOFFSETTO:+0200
TZNAME:CEST
DTSTART:20250330T010000
END:DAYLIGHT
BEGIN:STANDARD
TZOFFSETFROM:+0200
TZOFFSETTO:+0100
TZNAME:CET
DTSTART:20251026T010000
END:STANDARD
END:VTIMEZONE
BEGIN:VEVENT
DTSTART;TZID=Europe/Amsterdam:20240915T120000
DTEND;TZID=Europe/Amsterdam:20240915T160000
DTSTAMP:20260422T030629
CREATED:20240911T133851Z
LAST-MODIFIED:20240911T133851Z
UID:4011-1726401600-1726416000@peelhorstenmaasvallei.nl
SUMMARY:Lokale lancering breukenland-app bij de Volmolen te Merselo
DESCRIPTION:Tijdens de Open monumentendag 2024 zal in de Weverslose Volmolen te Merselo een doorlopende presentatie te zien zijn over het unieke breukengebied van de Peelhorst en Maasvallei. Na de opening van de POPUP City app bij de Peelrandhoofdbreuk in Boekel 8 september jl. is het op 15 september de beurt aan een andere belangrijke breuk: de Tegelenbreuk. \nEr is gelegenheid om via de Breukenland-app een ontdekkingstocht van Volmolen naar Boerenschans (en terug) te maken. Tijdens deze wandeling informeert de app de deelnemers over de bijzonderheden die men onderweg tegenkomt. Leuk voor gezinnen! Voor kinderen is er op het grasveld bij de Volmolen een springkussen beschikbaar. \nOPEN MONUMENTENDAG 15 september 2024 van 12.00 uur  – 16.00 uur \nLocatie: Volmolen – Boerenschans (en vice versa) \nParkeren: bij de Volmolen \nProgramma: Lokale lancering Breukenland-app.
URL:https://peelhorstenmaasvallei.nl/ontmoeting/lokale-lancering-breukenland-app-bij-de-volmolen-te-merselo/
LOCATION:Weverslose Volmolen\, Zandstraat 2\, Merselo\, 5815 CA\, Netherlands
CATEGORIES:Activiteit
ATTACH;FMTTYPE=image/png:https://peelhorstenmaasvallei.nl/wp-content/uploads/2024/09/foto-tbv-webapp-lancering-Merselo.png
END:VEVENT
END:VCALENDAR