BEGIN:VCALENDAR
VERSION:2.0
PRODID:-//Geopark - ECPv6.15.18//NONSGML v1.0//EN
CALSCALE:GREGORIAN
METHOD:PUBLISH
X-WR-CALNAME:Geopark
X-ORIGINAL-URL:https://peelhorstenmaasvallei.nl
X-WR-CALDESC:Evenementen voor Geopark
REFRESH-INTERVAL;VALUE=DURATION:PT1H
X-Robots-Tag:noindex
X-PUBLISHED-TTL:PT1H
BEGIN:VTIMEZONE
TZID:Europe/Amsterdam
BEGIN:DAYLIGHT
TZOFFSETFROM:+0100
TZOFFSETTO:+0200
TZNAME:CEST
DTSTART:20230326T010000
END:DAYLIGHT
BEGIN:STANDARD
TZOFFSETFROM:+0200
TZOFFSETTO:+0100
TZNAME:CET
DTSTART:20231029T010000
END:STANDARD
BEGIN:DAYLIGHT
TZOFFSETFROM:+0100
TZOFFSETTO:+0200
TZNAME:CEST
DTSTART:20240331T010000
END:DAYLIGHT
BEGIN:STANDARD
TZOFFSETFROM:+0200
TZOFFSETTO:+0100
TZNAME:CET
DTSTART:20241027T010000
END:STANDARD
BEGIN:DAYLIGHT
TZOFFSETFROM:+0100
TZOFFSETTO:+0200
TZNAME:CEST
DTSTART:20250330T010000
END:DAYLIGHT
BEGIN:STANDARD
TZOFFSETFROM:+0200
TZOFFSETTO:+0100
TZNAME:CET
DTSTART:20251026T010000
END:STANDARD
END:VTIMEZONE
BEGIN:VEVENT
DTSTART;TZID=Europe/Amsterdam:20240908T130000
DTEND;TZID=Europe/Amsterdam:20240908T160000
DTSTAMP:20260422T030552
CREATED:20240821T121908Z
LAST-MODIFIED:20240828T052534Z
UID:3939-1725800400-1725811200@peelhorstenmaasvallei.nl
SUMMARY:Kom naar de lancering van de webapp Breukenland op 8 september
DESCRIPTION:Kom op zondag 8 september om 13:00 naar de feestelijke lancering van Breukenland bij d’n Perekker in Boekel\, Mezenlaan 22\, 5427 SL. Maak kennis met de makers van de app en probeer de app\, geniet van hapjes en drankjes en ontdek de verborgen wereld onder je voeten! \nKlik hier voor meer informatie
URL:https://peelhorstenmaasvallei.nl/ontmoeting/lancering-van-de-webapp-breukenland-bij-dn-perekker-in-boekel/
LOCATION:Perekker\, Mezenlaan 22\, Boekel\, Mezenlaan 22
CATEGORIES:Activiteit
ATTACH;FMTTYPE=image/jpeg:https://peelhorstenmaasvallei.nl/wp-content/uploads/2024/08/2024-08-16-Poster-lancering-A2-zonder-3-mm-afloop_page-0001-1-scaled.jpg
ORGANIZER;CN="Geopark Peelhorst en Maasvallei":MAILTO:info@peelhorstenmaasvallei.nl
END:VEVENT
END:VCALENDAR