BEGIN:VCALENDAR
VERSION:2.0
PRODID:-//Geopark - ECPv6.15.20//NONSGML v1.0//EN
CALSCALE:GREGORIAN
METHOD:PUBLISH
X-WR-CALNAME:Geopark
X-ORIGINAL-URL:https://peelhorstenmaasvallei.nl
X-WR-CALDESC:Evenementen voor Geopark
REFRESH-INTERVAL;VALUE=DURATION:PT1H
X-Robots-Tag:noindex
X-PUBLISHED-TTL:PT1H
BEGIN:VTIMEZONE
TZID:Europe/Amsterdam
BEGIN:DAYLIGHT
TZOFFSETFROM:+0100
TZOFFSETTO:+0200
TZNAME:CEST
DTSTART:20200329T010000
END:DAYLIGHT
BEGIN:STANDARD
TZOFFSETFROM:+0200
TZOFFSETTO:+0100
TZNAME:CET
DTSTART:20201025T010000
END:STANDARD
BEGIN:DAYLIGHT
TZOFFSETFROM:+0100
TZOFFSETTO:+0200
TZNAME:CEST
DTSTART:20210328T010000
END:DAYLIGHT
BEGIN:STANDARD
TZOFFSETFROM:+0200
TZOFFSETTO:+0100
TZNAME:CET
DTSTART:20211031T010000
END:STANDARD
BEGIN:DAYLIGHT
TZOFFSETFROM:+0100
TZOFFSETTO:+0200
TZNAME:CEST
DTSTART:20220327T010000
END:DAYLIGHT
BEGIN:STANDARD
TZOFFSETFROM:+0200
TZOFFSETTO:+0100
TZNAME:CET
DTSTART:20221030T010000
END:STANDARD
END:VTIMEZONE
BEGIN:VEVENT
DTSTART;TZID=Europe/Amsterdam:20211003T100000
DTEND;TZID=Europe/Amsterdam:20211003T120000
DTSTAMP:20260424T011907
CREATED:20210702T095156Z
LAST-MODIFIED:20210922T113419Z
UID:1968-1633255200-1633262400@peelhorstenmaasvallei.nl
SUMMARY:Fiets excursie naar verborgen Raamvallei en Tongelaar
DESCRIPTION:Fiets excursie naar verborgen Raamvallei en Tongelaar door HKK en IVN samen.\nMax 40 deelnemers.\nKosten: 2\,50\nAanmelden: info@devalkhoevemill.nl\nBenodigdheden: fiets
URL:https://peelhorstenmaasvallei.nl/ontmoeting/wandeling-naar-verborgen-raamvallei-en-tongelaar/
LOCATION:De Valkhoeve\, Valkweg 11\, Mill\, Valkweg 11\, 5451PX
CATEGORIES:Activiteit
ATTACH;FMTTYPE=image/jpeg:https://peelhorstenmaasvallei.nl/wp-content/uploads/2021/07/2021-08-20-KO-foto-kasteel-Tongelaar.jpg
ORGANIZER;CN="De Valkhoeve":MAILTO:info@devalkhoevemill.nl
END:VEVENT
END:VCALENDAR