BEGIN:VCALENDAR
VERSION:2.0
PRODID:-//Geopark - ECPv6.15.18//NONSGML v1.0//EN
CALSCALE:GREGORIAN
METHOD:PUBLISH
X-ORIGINAL-URL:https://peelhorstenmaasvallei.nl
X-WR-CALDESC:Evenementen voor Geopark
REFRESH-INTERVAL;VALUE=DURATION:PT1H
X-Robots-Tag:noindex
X-PUBLISHED-TTL:PT1H
BEGIN:VTIMEZONE
TZID:Europe/Amsterdam
BEGIN:DAYLIGHT
TZOFFSETFROM:+0100
TZOFFSETTO:+0200
TZNAME:CEST
DTSTART:20220327T010000
END:DAYLIGHT
BEGIN:STANDARD
TZOFFSETFROM:+0200
TZOFFSETTO:+0100
TZNAME:CET
DTSTART:20221030T010000
END:STANDARD
BEGIN:DAYLIGHT
TZOFFSETFROM:+0100
TZOFFSETTO:+0200
TZNAME:CEST
DTSTART:20230326T010000
END:DAYLIGHT
BEGIN:STANDARD
TZOFFSETFROM:+0200
TZOFFSETTO:+0100
TZNAME:CET
DTSTART:20231029T010000
END:STANDARD
BEGIN:DAYLIGHT
TZOFFSETFROM:+0100
TZOFFSETTO:+0200
TZNAME:CEST
DTSTART:20240331T010000
END:DAYLIGHT
BEGIN:STANDARD
TZOFFSETFROM:+0200
TZOFFSETTO:+0100
TZNAME:CET
DTSTART:20241027T010000
END:STANDARD
END:VTIMEZONE
BEGIN:VEVENT
DTSTART;TZID=Europe/Amsterdam:20231031T193000
DTEND;TZID=Europe/Amsterdam:20231031T213000
DTSTAMP:20260422T185205
CREATED:20231024T080200Z
LAST-MODIFIED:20231024T080200Z
UID:3563-1698780600-1698787800@peelhorstenmaasvallei.nl
SUMMARY:Lezing “Het barst hier van de breuken”
DESCRIPTION:Lezing “Het barst hier van de breuken” \nJan Timmers – Cultuurhistoricus en onderzoeker \nJan Derks – Gastheer van het Landschap \n  \nDinsdag 31 oktober 2023 \nWapen van Wanroij\, Kwikstraat 6\, Wanroij \nOrganisatie: Wanrode’s Heem i.s.m. Heemschut Sint Huybert. \nBij vele inwoners in het Land van Cuijk is amper bekend dat er breuken dwars door het gebied lopen. De Peelrandbreuk\, Tegelenbreuk en nog meer breuken vervullen een hoofdrol binnen het gebied Peelhorst en Maasvallei. Een uniek gebied van omgeving Mill/Uden in Noord-Brabant tot voorbij Venlo en Roermond in Limburg. Bewegingen in de aardkorst hebben geleid tot een breukenstelsel in de bodem en een landschap gevormd van horsten (hoog) en slenken (laag). Door alle aandacht de laatste jaren (mede door het initiatief Geopark en Maasvallei i.o.) is er steeds meer interesse ontstaan in dit geologisch verschijnsel.\nMaar waar lopen die breuken nou precies? En wat voor effect heeft dat op het landschap? De breuken in de ondergrond hebben de inrichting en het gebruik van het landschap bepaald. Zoals watermolens\, landgebruik\, broekstenen en ijzerertswinning bij Sint Hubert\, maar ook kastelen/verdedigingslinies en zelfs ook religie. \nKun je de breuk echt zien of is deze alleen maar verborgen onder de grond? En hoe zit dit nu met aardbevingen rond deze breuk? \nOp dinsdag 31 oktober ben je van harte welkom op deze boeiende lezing over de breuken\, waarin naast uitgebreide informatie over cultuurhistorische aspecten door Jan Timmers daarna ook nog specifiek ingegaan zal worden op de lokale verschijnselen rondom Wanroij en Sint Hubert. \nOver de sprekers:\n– Jan Timmers uit Gemert is Cultuurhistoricus en al jaren actief bezig met onderzoek. Dat begon met archeologie en genealogie\, maar dat breide als snel uit naar tot alles wat te maken heeft met geschiedenis in en van het landschap: geologie\, historische geografie\, ontstaan van dorpen en de ontwikkeling van de boerderij.\n– Jan Derks woont bij een breuk in Wanroij en kent in zijn (wijde) omgeving de gebiedskenmerken van de breuken. Sinds vorig jaar is hij vrijwillig ambassadeur/ Gastheer van het Landschap Geopark en Maasvallei i.o. \nVrije toegang. Inloop mogelijk vanaf 19.30 uur en we starten de lezing om 20.00 uur. \nbrongebied van de Raam nabij Wanroij
URL:https://peelhorstenmaasvallei.nl/ontmoeting/lezing-het-barst-hier-van-de-breuken/
LOCATION:Wapen van Wanroij\, Kwikstraat 6\, Wanroij\, Nederland
END:VEVENT
END:VCALENDAR