BEGIN:VCALENDAR
VERSION:2.0
PRODID:-//Geopark - ECPv6.15.18//NONSGML v1.0//EN
CALSCALE:GREGORIAN
METHOD:PUBLISH
X-WR-CALNAME:Geopark
X-ORIGINAL-URL:https://peelhorstenmaasvallei.nl
X-WR-CALDESC:Evenementen voor Geopark
REFRESH-INTERVAL;VALUE=DURATION:PT1H
X-Robots-Tag:noindex
X-PUBLISHED-TTL:PT1H
BEGIN:VTIMEZONE
TZID:Europe/Amsterdam
BEGIN:DAYLIGHT
TZOFFSETFROM:+0100
TZOFFSETTO:+0200
TZNAME:CEST
DTSTART:20220327T010000
END:DAYLIGHT
BEGIN:STANDARD
TZOFFSETFROM:+0200
TZOFFSETTO:+0100
TZNAME:CET
DTSTART:20221030T010000
END:STANDARD
BEGIN:DAYLIGHT
TZOFFSETFROM:+0100
TZOFFSETTO:+0200
TZNAME:CEST
DTSTART:20230326T010000
END:DAYLIGHT
BEGIN:STANDARD
TZOFFSETFROM:+0200
TZOFFSETTO:+0100
TZNAME:CET
DTSTART:20231029T010000
END:STANDARD
BEGIN:DAYLIGHT
TZOFFSETFROM:+0100
TZOFFSETTO:+0200
TZNAME:CEST
DTSTART:20240331T010000
END:DAYLIGHT
BEGIN:STANDARD
TZOFFSETFROM:+0200
TZOFFSETTO:+0100
TZNAME:CET
DTSTART:20241027T010000
END:STANDARD
END:VTIMEZONE
BEGIN:VEVENT
DTSTART;TZID=Europe/Amsterdam:20231008T080000
DTEND;TZID=Europe/Amsterdam:20231008T123000
DTSTAMP:20260422T201409
CREATED:20230928T112438Z
LAST-MODIFIED:20230928T112438Z
UID:3541-1696752000-1696768200@peelhorstenmaasvallei.nl
SUMMARY:Wandeling langs de Peelrandbreuk in de Heiakker
DESCRIPTION:De Peelrandbreuk neemt een dominante plek in de Heiakker in. Wil je meer weten over deze Peelrandbreuk? Wandel dan zondag 8 oktober mee met gids Theo van de Mortel.
URL:https://peelhorstenmaasvallei.nl/ontmoeting/wandeling-langs-de-peelrandbreuk-in-de-heiakker/
LOCATION:Ossenbeemd\, Haageind 31\, Deurne\, Haageind 31\, 5751 BB
END:VEVENT
END:VCALENDAR