BEGIN:VCALENDAR
VERSION:2.0
PRODID:-//Geopark - ECPv6.15.20//NONSGML v1.0//EN
CALSCALE:GREGORIAN
METHOD:PUBLISH
X-ORIGINAL-URL:https://peelhorstenmaasvallei.nl
X-WR-CALDESC:Evenementen voor Geopark
REFRESH-INTERVAL;VALUE=DURATION:PT1H
X-Robots-Tag:noindex
X-PUBLISHED-TTL:PT1H
BEGIN:VTIMEZONE
TZID:Europe/Amsterdam
BEGIN:DAYLIGHT
TZOFFSETFROM:+0100
TZOFFSETTO:+0200
TZNAME:CEST
DTSTART:20200329T010000
END:DAYLIGHT
BEGIN:STANDARD
TZOFFSETFROM:+0200
TZOFFSETTO:+0100
TZNAME:CET
DTSTART:20201025T010000
END:STANDARD
BEGIN:DAYLIGHT
TZOFFSETFROM:+0100
TZOFFSETTO:+0200
TZNAME:CEST
DTSTART:20210328T010000
END:DAYLIGHT
BEGIN:STANDARD
TZOFFSETFROM:+0200
TZOFFSETTO:+0100
TZNAME:CET
DTSTART:20211031T010000
END:STANDARD
BEGIN:DAYLIGHT
TZOFFSETFROM:+0100
TZOFFSETTO:+0200
TZNAME:CEST
DTSTART:20220327T010000
END:DAYLIGHT
BEGIN:STANDARD
TZOFFSETFROM:+0200
TZOFFSETTO:+0100
TZNAME:CET
DTSTART:20221030T010000
END:STANDARD
END:VTIMEZONE
BEGIN:VEVENT
DTSTART;TZID=Europe/Amsterdam:20211024T110000
DTEND;TZID=Europe/Amsterdam:20211024T153000
DTSTAMP:20260424T063115
CREATED:20210929T105317Z
LAST-MODIFIED:20210929T105317Z
UID:2265-1635073200-1635089400@peelhorstenmaasvallei.nl
SUMMARY:Peelrandbreuk ontdekken bij de Ossenbeemd en Bijzonder Brabants met lunch
DESCRIPTION:Op een dag de geheimen van de Peelrandbreuk ontdekken. Kijk voor meer informatie op Bijzonder Brabants
URL:https://peelhorstenmaasvallei.nl/ontmoeting/peelrandbreuk-ontdekken-bij-de-ossenbeemd-en-bijzonder-brabants-met-lunch/
LOCATION:Bijzonder Brabants\, Deurne\, Breemortelweg 25\, 5753RH
CATEGORIES:Partner
ATTACH;FMTTYPE=image/jpeg:https://peelhorstenmaasvallei.nl/wp-content/uploads/2021/06/2021-06-28-Geopark-de-onvergetelijke-groentetuin-ontdekken.jpg
END:VEVENT
END:VCALENDAR