BEGIN:VCALENDAR
VERSION:2.0
PRODID:-//Geopark - ECPv6.15.20//NONSGML v1.0//EN
CALSCALE:GREGORIAN
METHOD:PUBLISH
X-WR-CALNAME:Geopark
X-ORIGINAL-URL:https://peelhorstenmaasvallei.nl
X-WR-CALDESC:Evenementen voor Geopark
REFRESH-INTERVAL;VALUE=DURATION:PT1H
X-Robots-Tag:noindex
X-PUBLISHED-TTL:PT1H
BEGIN:VTIMEZONE
TZID:Europe/Amsterdam
BEGIN:DAYLIGHT
TZOFFSETFROM:+0100
TZOFFSETTO:+0200
TZNAME:CEST
DTSTART:20200329T010000
END:DAYLIGHT
BEGIN:STANDARD
TZOFFSETFROM:+0200
TZOFFSETTO:+0100
TZNAME:CET
DTSTART:20201025T010000
END:STANDARD
BEGIN:DAYLIGHT
TZOFFSETFROM:+0100
TZOFFSETTO:+0200
TZNAME:CEST
DTSTART:20210328T010000
END:DAYLIGHT
BEGIN:STANDARD
TZOFFSETFROM:+0200
TZOFFSETTO:+0100
TZNAME:CET
DTSTART:20211031T010000
END:STANDARD
BEGIN:DAYLIGHT
TZOFFSETFROM:+0100
TZOFFSETTO:+0200
TZNAME:CEST
DTSTART:20220327T010000
END:DAYLIGHT
BEGIN:STANDARD
TZOFFSETFROM:+0200
TZOFFSETTO:+0100
TZNAME:CET
DTSTART:20221030T010000
END:STANDARD
END:VTIMEZONE
BEGIN:VEVENT
DTSTART;TZID=Europe/Amsterdam:20211009T110000
DTEND;TZID=Europe/Amsterdam:20211009T173000
DTSTAMP:20260424T034146
CREATED:20210929T105004Z
LAST-MODIFIED:20210929T105004Z
UID:2261-1633777200-1633800600@peelhorstenmaasvallei.nl
SUMMARY:Peelrandbreuk dagarrangement met fietstocht
DESCRIPTION:Dagarrangement met fietstocht georganiseerd door Bijzonder Brabants.
URL:https://peelhorstenmaasvallei.nl/ontmoeting/peelrandbreuk-dagarrangement-met-fietstocht/
LOCATION:Bijzonder Brabants\, Deurne\, Breemortelweg 25\, 5753RH
CATEGORIES:Partner
ATTACH;FMTTYPE=image/jpeg:https://peelhorstenmaasvallei.nl/wp-content/uploads/2021/09/2021-09-29-Bijzonder-Brabants-dagarrangement-219-w-1118-TKP-turfstekers.jpg
END:VEVENT
END:VCALENDAR