BEGIN:VCALENDAR
VERSION:2.0
PRODID:-//Geopark - ECPv6.15.20//NONSGML v1.0//EN
CALSCALE:GREGORIAN
METHOD:PUBLISH
X-WR-CALNAME:Geopark
X-ORIGINAL-URL:https://peelhorstenmaasvallei.nl
X-WR-CALDESC:Evenementen voor Geopark
REFRESH-INTERVAL;VALUE=DURATION:PT1H
X-Robots-Tag:noindex
X-PUBLISHED-TTL:PT1H
BEGIN:VTIMEZONE
TZID:Europe/Amsterdam
BEGIN:DAYLIGHT
TZOFFSETFROM:+0100
TZOFFSETTO:+0200
TZNAME:CEST
DTSTART:20200329T010000
END:DAYLIGHT
BEGIN:STANDARD
TZOFFSETFROM:+0200
TZOFFSETTO:+0100
TZNAME:CET
DTSTART:20201025T010000
END:STANDARD
BEGIN:DAYLIGHT
TZOFFSETFROM:+0100
TZOFFSETTO:+0200
TZNAME:CEST
DTSTART:20210328T010000
END:DAYLIGHT
BEGIN:STANDARD
TZOFFSETFROM:+0200
TZOFFSETTO:+0100
TZNAME:CET
DTSTART:20211031T010000
END:STANDARD
BEGIN:DAYLIGHT
TZOFFSETFROM:+0100
TZOFFSETTO:+0200
TZNAME:CEST
DTSTART:20220327T010000
END:DAYLIGHT
BEGIN:STANDARD
TZOFFSETFROM:+0200
TZOFFSETTO:+0100
TZNAME:CET
DTSTART:20221030T010000
END:STANDARD
END:VTIMEZONE
BEGIN:VEVENT
DTSTART;VALUE=DATE:20210926
DTEND;VALUE=DATE:20210927
DTSTAMP:20260424T050227
CREATED:20210702T093212Z
LAST-MODIFIED:20210915T121205Z
UID:1951-1632614400-1632700799@peelhorstenmaasvallei.nl
SUMMARY:Fietstocht sporen van de Peelrandbreuk. Let op uitgesteld tot nader order
DESCRIPTION:Let op uitgesteld tot nader order. Fietstocht sporen van de Peelrandbreuk door Theo van de Mortel.\nNadere info volgt.\nAanmelden: beheer@ossenbeemd.nl\nMax 20 deelnemers.
URL:https://peelhorstenmaasvallei.nl/ontmoeting/fietstocht-sporen-van-de-peelrandbreuk/
LOCATION:Ossenbeemd\, Haageind 31\, Deurne\, Haageind 31\, 5751 BB
CATEGORIES:Activiteit
ATTACH;FMTTYPE=image/jpeg:https://peelhorstenmaasvallei.nl/wp-content/uploads/2021/07/2021-07-14-sticker-kleinschalige-ontmoetingen-apart3-scaled.jpg
ORGANIZER;CN="Ossenbeemd":MAILTO:info@ossenbeemd.nl
END:VEVENT
END:VCALENDAR